BEGIN:VCALENDAR
VERSION:2.0
METHOD:PUBLISH
BEGIN:VEVENT
DTSTART:20190302T140000
DTEND:20190302T143000
LOCATION:183 Mount Annan Drive Mount Annan, NSW 2567
TRANSP: OPAQUE
SEQUENCE:0
UID:
DTSTAMP:20190227T114303Z
SUMMARY:Home Open - Large Four Bedroom Family Home With Pool!
DESCRIPTION:This large four bedroom family home features:
-Formal lounge and dining room.
-Separate dining and family room.
-Large ensuite and walk in robe to the main bedroom.
-Built in robes in the other three rooms.
-Large kitchen with gas cook top.
-Split system air conditioning.
-Double lock up garage.
-Large covered entertaining area.
-Near new in ground swimming pool.
-Established gardens.

Please call 4647 5933 to arrange your private inspection, or attend the open home this Saturday between 2pm and 2.30pm.
PRIORITY:1
CLASS:PUBLIC
BEGIN:VALARM
TRIGGER:-PT10080M
ACTION:DISPLAY
DESCRIPTION:Reminder
END:VALARM
END:VEVENT
END:VCALENDAR
